BEGIN:VCALENDAR
METHOD:REQUEST
PRODID:-//events.orgNONSGML ical.net 4.0//EN
VERSION:2.0
BEGIN:VEVENT
DTEND;VALUE=DATE:20260428
DTSTAMP:20260424T081039Z
DTSTART;VALUE=DATE:20260428
LOCATION:Sony Hall\, New York
ORGANIZER;CN=:mailto:events@events.org
SEQUENCE:0
SUMMARY:Subliminal & The Shadow
UID:472560a5-c23b-49e9-b3b6-11cb31ff8154
URL:https://events.org/e/Subliminal-The-Shadow/LE5J4YBH
BEGIN:VALARM
ACTION:DISPLAY
SUMMARY:Reminder
TRIGGER:-P1D
END:VALARM
END:VEVENT
END:VCALENDAR
