BEGIN:VCALENDAR
METHOD:REQUEST
PRODID:-//events.orgNONSGML ical.net 4.0//EN
VERSION:2.0
BEGIN:VEVENT
DTEND;VALUE=DATE:20260419
DTSTAMP:20260421T082311Z
DTSTART;VALUE=DATE:20260419
LOCATION:Beacon Theatre\, New York
ORGANIZER;CN=:mailto:events@events.org
SEQUENCE:0
SUMMARY:John Oliver & Seth Meyers
UID:3913e6e7-dc38-4f51-95e7-ddaef9425cdb
URL:https://events.org/e/John-Oliver-Seth-Meyers/X3MIMQ8M
BEGIN:VALARM
ACTION:DISPLAY
SUMMARY:Reminder
TRIGGER:-P1D
END:VALARM
END:VEVENT
END:VCALENDAR
