BEGIN:VCALENDAR
METHOD:REQUEST
PRODID:-//events.orgNONSGML ical.net 4.0//EN
VERSION:2.0
BEGIN:VEVENT
DTEND;VALUE=DATE:20261010
DTSTAMP:20260424T092425Z
DTSTART;VALUE=DATE:20261010
LOCATION:Improv Comedy Club- DC\, Washington
ORGANIZER;CN=:mailto:events@events.org
SEQUENCE:0
SUMMARY:Rafi Bastos
UID:ebec0989-4d55-4406-9b05-1ad2607ce0e9
URL:https://events.org/e/Rafi-Bastos/OJHLIWKJ
BEGIN:VALARM
ACTION:DISPLAY
SUMMARY:Reminder
TRIGGER:-P1D
END:VALARM
END:VEVENT
END:VCALENDAR
