BEGIN:VCALENDAR
METHOD:REQUEST
PRODID:-//events.orgNONSGML ical.net 4.0//EN
VERSION:2.0
BEGIN:VEVENT
DTEND;VALUE=DATE:20260522
DTSTAMP:20260422T092333Z
DTSTART;VALUE=DATE:20260522
LOCATION:Bottom Lounge\, Chicago
ORGANIZER;CN=:mailto:events@events.org
SEQUENCE:0
SUMMARY:Yoi Toki - A Future Funk/Vaporwave Party
UID:c39e926c-9ed4-4efc-8796-8a69dfe4be9d
URL:https://events.org/e/Yoi-Toki---A-Future-FunkVaporwave-Party/Y5CL8BFG
BEGIN:VALARM
ACTION:DISPLAY
SUMMARY:Reminder
TRIGGER:-P1D
END:VALARM
END:VEVENT
END:VCALENDAR
