BEGIN:VCALENDAR
METHOD:REQUEST
PRODID:-//events.orgNONSGML ical.net 4.0//EN
VERSION:2.0
BEGIN:VEVENT
DTEND;VALUE=DATE:20260426
DTSTAMP:20260421T094230Z
DTSTART;VALUE=DATE:20260426
LOCATION:Reggies Bananna's Shack \, Chicago
ORGANIZER;CN=:mailto:events@events.org
SEQUENCE:0
SUMMARY:Silk and Nightwind
UID:d201b177-e219-435a-ad61-4a76d0900acb
URL:https://events.org/e/Silk-and-Nightwind/6QLK3SSE
BEGIN:VALARM
ACTION:DISPLAY
SUMMARY:Reminder
TRIGGER:-P1D
END:VALARM
END:VEVENT
END:VCALENDAR
