BEGIN:VCALENDAR
METHOD:REQUEST
PRODID:-//events.orgNONSGML ical.net 4.0//EN
VERSION:2.0
BEGIN:VEVENT
DTEND;VALUE=DATE:20260924
DTSTAMP:20260422T090715Z
DTSTART;VALUE=DATE:20260924
LOCATION:Citizens Bank Park\, Philadelphia
ORGANIZER;CN=:mailto:events@events.org
SEQUENCE:0
SUMMARY:Philadelphia Phillies vs. Milwaukee Brewers
UID:fed9061c-4d6e-42db-b112-647894686a25
URL:https://events.org/e/Philadelphia-Phillies-vs-Milwaukee-Brewers/TW4DVN
 4H
BEGIN:VALARM
ACTION:DISPLAY
SUMMARY:Reminder
TRIGGER:-P1D
END:VALARM
END:VEVENT
END:VCALENDAR
