BEGIN:VCALENDAR
METHOD:REQUEST
PRODID:-//events.orgNONSGML ical.net 4.0//EN
VERSION:2.0
BEGIN:VEVENT
DTEND;VALUE=DATE:20260425
DTSTAMP:20260423T132953Z
DTSTART;VALUE=DATE:20260425
LOCATION:Aisle 5\, Atlanta
ORGANIZER;CN=:mailto:events@events.org
SEQUENCE:0
SUMMARY:Wim Tapley & The Cannons
UID:8e979c8e-f6a2-4985-863a-c841797f5636
URL:https://events.org/e/Wim-Tapley-The-Cannons/M37JNS7T
BEGIN:VALARM
ACTION:DISPLAY
SUMMARY:Reminder
TRIGGER:-P1D
END:VALARM
END:VEVENT
END:VCALENDAR
