BEGIN:VCALENDAR
METHOD:REQUEST
PRODID:-//events.orgNONSGML ical.net 4.0//EN
VERSION:2.0
BEGIN:VEVENT
DTEND;VALUE=DATE:20260530
DTSTAMP:20260421T104031Z
DTSTART;VALUE=DATE:20260530
LOCATION:Tabernacle\, Atlanta
ORGANIZER;CN=:mailto:events@events.org
SEQUENCE:0
SUMMARY:ECHO & THE BUNNYMEN: More Songs To Learn & Sing
UID:ced2853f-7955-4c98-ab6c-569f5d3ea14a
URL:https://events.org/e/ECHO-THE-BUNNYMEN-More-Songs-To-Learn-Sing/WH5AVV
 5T
BEGIN:VALARM
ACTION:DISPLAY
SUMMARY:Reminder
TRIGGER:-P1D
END:VALARM
END:VEVENT
END:VCALENDAR
