BEGIN:VCALENDAR
METHOD:REQUEST
PRODID:-//events.orgNONSGML ical.net 4.0//EN
VERSION:2.0
BEGIN:VEVENT
DTEND;VALUE=DATE:20260612
DTSTAMP:20260422T092514Z
DTSTART;VALUE=DATE:20260612
LOCATION:SOMA - Sidestage\, San Diego
ORGANIZER;CN=:mailto:events@events.org
SEQUENCE:0
SUMMARY:Jettee + Guests
UID:733e2faf-54bd-4556-94d0-1722a35e19b1
URL:https://events.org/e/Jettee-Guests/SD78KBFK
BEGIN:VALARM
ACTION:DISPLAY
SUMMARY:Reminder
TRIGGER:-P1D
END:VALARM
END:VEVENT
END:VCALENDAR
