BEGIN:VCALENDAR
METHOD:REQUEST
PRODID:-//events.orgNONSGML ical.net 4.0//EN
VERSION:2.0
BEGIN:VEVENT
DTEND;VALUE=DATE:20260722
DTSTAMP:20260423T132954Z
DTSTART;VALUE=DATE:20260722
LOCATION:Nu Stadium\, Miami
ORGANIZER;CN=:mailto:events@events.org
SEQUENCE:0
SUMMARY:Inter Miami CF vs Chicago Fire FC
UID:eb719c28-c8ed-43a0-a3c8-21b31d117fc9
URL:https://events.org/e/Inter-Miami-CF-vs-Chicago-Fire-FC/CU7T2S4N
BEGIN:VALARM
ACTION:DISPLAY
SUMMARY:Reminder
TRIGGER:-P1D
END:VALARM
END:VEVENT
END:VCALENDAR
