BEGIN:VCALENDAR
METHOD:REQUEST
PRODID:-//events.orgNONSGML ical.net 4.0//EN
VERSION:2.0
BEGIN:VEVENT
DTEND;VALUE=DATE:20260502
DTSTAMP:20260424T081006Z
DTSTART;VALUE=DATE:20260502
LOCATION:South Side Studios\, Dallas
ORGANIZER;CN=:mailto:events@events.org
SEQUENCE:0
SUMMARY:Balloon Museum | Let's Fly - Art Has No Limits - Dallas
UID:0f016140-9174-4448-95cd-16efba773e4f
URL:https://events.org/e/Balloon-Museum-Lets-Fly---Art-Has-No-Limits--/GAD
 EXWEL
BEGIN:VALARM
ACTION:DISPLAY
SUMMARY:Reminder
TRIGGER:-P1D
END:VALARM
END:VEVENT
END:VCALENDAR
