BEGIN:VCALENDAR
METHOD:REQUEST
PRODID:-//events.orgNONSGML ical.net 4.0//EN
VERSION:2.0
BEGIN:VEVENT
DTEND;VALUE=DATE:20260612
DTSTAMP:20260421T094506Z
DTSTART;VALUE=DATE:20260612
LOCATION:Punch Line Houston\, Houston
ORGANIZER;CN=:mailto:events@events.org
SEQUENCE:0
SUMMARY:Kev Herrera
UID:30c2b665-c9f8-483d-94bd-d95b21b44767
URL:https://events.org/e/Kev-Herrera/CHB8T5WU
BEGIN:VALARM
ACTION:DISPLAY
SUMMARY:Reminder
TRIGGER:-P1D
END:VALARM
END:VEVENT
END:VCALENDAR
