BEGIN:VCALENDAR
METHOD:REQUEST
PRODID:-//events.orgNONSGML ical.net 4.0//EN
VERSION:2.0
BEGIN:VEVENT
DTEND;VALUE=DATE:20260620
DTSTAMP:20260421T082244Z
DTSTART;VALUE=DATE:20260620
LOCATION:The Crocodile\, Seattle
ORGANIZER;CN=:mailto:events@events.org
SEQUENCE:0
SUMMARY:The Crane Wives - ACT II  With special guest Yasmin Williams
UID:23f30c05-930b-4360-b375-10f76b3a6be0
URL:https://events.org/e/The-Crane-Wives---ACT-II-With-special-guest-Y/H9O
 NWTNS
BEGIN:VALARM
ACTION:DISPLAY
SUMMARY:Reminder
TRIGGER:-P1D
END:VALARM
END:VEVENT
END:VCALENDAR
