BEGIN:VCALENDAR
METHOD:REQUEST
PRODID:-//events.orgNONSGML ical.net 4.0//EN
VERSION:2.0
BEGIN:VEVENT
DTEND;VALUE=DATE:20260820
DTSTAMP:20260424T092445Z
DTSTART;VALUE=DATE:20260820
LOCATION:Thunderbird Lounge\, Phoenix
ORGANIZER;CN=:mailto:events@events.org
SEQUENCE:0
SUMMARY:Loterã­A Thursdays
UID:af0f048a-3be3-4321-956b-e0f8973fe65c
URL:https://events.org/e/LoteraA-Thursdays/F8N7DSIA
BEGIN:VALARM
ACTION:DISPLAY
SUMMARY:Reminder
TRIGGER:-P1D
END:VALARM
END:VEVENT
END:VCALENDAR
