BEGIN:VCALENDAR
METHOD:REQUEST
PRODID:-//events.orgNONSGML ical.net 4.0//EN
VERSION:2.0
BEGIN:VEVENT
DTEND;VALUE=DATE:20260530
DTSTAMP:20260422T084212Z
DTSTART;VALUE=DATE:20260530
LOCATION:Stateside Live Philadelphia\, Philadelphia
ORGANIZER;CN=:mailto:events@events.org
SEQUENCE:0
SUMMARY:Two Friends (18 and Over)
UID:f04906aa-6746-4341-8a72-43145e577545
URL:https://events.org/e/Two-Friends-18-and-Over/MJHJMWPC
BEGIN:VALARM
ACTION:DISPLAY
SUMMARY:Reminder
TRIGGER:-P1D
END:VALARM
END:VEVENT
END:VCALENDAR
