BEGIN:VCALENDAR
METHOD:REQUEST
PRODID:-//events.orgNONSGML ical.net 4.0//EN
VERSION:2.0
BEGIN:VEVENT
DTEND;VALUE=DATE:20260429
DTSTAMP:20260421T082546Z
DTSTART;VALUE=DATE:20260429
LOCATION:Paramount Theatre\, Seattle
ORGANIZER;CN=:mailto:events@events.org
SEQUENCE:0
SUMMARY:Queens Of The Stone Age: The Catacombs Tour
UID:223e13df-beb5-440c-9c58-b1fdd90cac24
URL:https://events.org/e/Queens-Of-The-Stone-Age-The-Catacombs-Tour/F9RYQ3
 CO
BEGIN:VALARM
ACTION:DISPLAY
SUMMARY:Reminder
TRIGGER:-P1D
END:VALARM
END:VEVENT
END:VCALENDAR
