BEGIN:VCALENDAR
METHOD:REQUEST
PRODID:-//events.orgNONSGML ical.net 4.0//EN
VERSION:2.0
BEGIN:VEVENT
DTEND;VALUE=DATE:20260527
DTSTAMP:20260421T095527Z
DTSTART;VALUE=DATE:20260527
LOCATION:The Masquerade  - Altar\, Atlanta
ORGANIZER;CN=:mailto:events@events.org
SEQUENCE:0
SUMMARY:Racing Mount Pleasant - MOVED TO TERMINAL WEST
UID:b72b6bc9-c53d-4de7-b2ea-95c5293037c1
URL:https://events.org/e/Racing-Mount-Pleasant---MOVED-TO-TERMINAL-WEST/LV
 F9PH9U
BEGIN:VALARM
ACTION:DISPLAY
SUMMARY:Reminder
TRIGGER:-P1D
END:VALARM
END:VEVENT
END:VCALENDAR
