BEGIN:VCALENDAR
METHOD:REQUEST
PRODID:-//events.orgNONSGML ical.net 4.0//EN
VERSION:2.0
BEGIN:VEVENT
DTEND;VALUE=DATE:20260616
DTSTAMP:20260421T095751Z
DTSTART;VALUE=DATE:20260616
LOCATION:The Met Presented by Highmark\, Philadelphia
ORGANIZER;CN=:mailto:events@events.org
SEQUENCE:0
SUMMARY:CA7RIEL & Paco Amoroso: FREE SPIRITS WORLD TOUR
UID:cecfd0f7-0de2-4e10-bfc9-c15f614b013b
URL:https://events.org/e/CA7RIEL-Paco-Amoroso-FREE-SPIRITS-WORLD-TOUR/N2VW
 D7AC
BEGIN:VALARM
ACTION:DISPLAY
SUMMARY:Reminder
TRIGGER:-P1D
END:VALARM
END:VEVENT
END:VCALENDAR
