BEGIN:VCALENDAR
METHOD:REQUEST
PRODID:-//events.orgNONSGML ical.net 4.0//EN
VERSION:2.0
BEGIN:VEVENT
DTEND;VALUE=DATE:20260707
DTSTAMP:20260421T133115Z
DTSTART;VALUE=DATE:20260707
LOCATION:Fenway Park\, Boston
ORGANIZER;CN=:mailto:events@events.org
SEQUENCE:0
SUMMARY:Noah Kahan w/ Gigi Perez
UID:1a89f9c9-0853-45ae-b355-ca12b45036af
URL:https://events.org/e/Noah-Kahan-w-Gigi-Perez/3YQRKASY
BEGIN:VALARM
ACTION:DISPLAY
SUMMARY:Reminder
TRIGGER:-P1D
END:VALARM
END:VEVENT
END:VCALENDAR
