BEGIN:VCALENDAR
METHOD:REQUEST
PRODID:-//events.orgNONSGML ical.net 4.0//EN
VERSION:2.0
BEGIN:VEVENT
DTEND;VALUE=DATE:20260517
DTSTAMP:20260423T133643Z
DTSTART;VALUE=DATE:20260517
LOCATION:Forrest Theatre\, Philadelphia
ORGANIZER;CN=:mailto:events@events.org
SEQUENCE:0
SUMMARY:Chicago the Musical (Touring)
UID:0d70d429-7c89-4161-adb0-f76e38076cfc
URL:https://events.org/e/Chicago-the-Musical-Touring/5GHLNCEF
BEGIN:VALARM
ACTION:DISPLAY
SUMMARY:Reminder
TRIGGER:-P1D
END:VALARM
END:VEVENT
END:VCALENDAR
