BEGIN:VCALENDAR
METHOD:REQUEST
PRODID:-//events.orgNONSGML ical.net 4.0//EN
VERSION:2.0
BEGIN:VEVENT
DTEND;VALUE=DATE:20260704
DTSTAMP:20260421T103900Z
DTSTART;VALUE=DATE:20260704
LOCATION:La Rumba\, Denver
ORGANIZER;CN=:mailto:events@events.org
SEQUENCE:0
SUMMARY:Sabados Sabrosos!
UID:5250881a-ed0a-4dfd-9e93-47b63b2a7fc7
URL:https://events.org/e/Sabados-Sabrosos/DSBWD2VN
BEGIN:VALARM
ACTION:DISPLAY
SUMMARY:Reminder
TRIGGER:-P1D
END:VALARM
END:VEVENT
END:VCALENDAR
