BEGIN:VCALENDAR
METHOD:REQUEST
PRODID:-//events.orgNONSGML ical.net 4.0//EN
VERSION:2.0
BEGIN:VEVENT
DTEND;VALUE=DATE:20260425
DTSTAMP:20260422T091845Z
DTSTART;VALUE=DATE:20260425
LOCATION:Orpheum Theatre NYC\, New York
ORGANIZER;CN=:mailto:events@events.org
SEQUENCE:0
SUMMARY:11 to Midnight
UID:a684119e-8099-4541-9199-f2e187af26a1
URL:https://events.org/e/11-to-Midnight/CO6T9SGU
BEGIN:VALARM
ACTION:DISPLAY
SUMMARY:Reminder
TRIGGER:-P1D
END:VALARM
END:VEVENT
END:VCALENDAR
