BEGIN:VCALENDAR
METHOD:REQUEST
PRODID:-//events.orgNONSGML ical.net 4.0//EN
VERSION:2.0
BEGIN:VEVENT
DTEND;VALUE=DATE:20261219
DTSTAMP:20260422T084912Z
DTSTART;VALUE=DATE:20261219
LOCATION:Lincoln Theatre\, Washington
ORGANIZER;CN=:mailto:events@events.org
SEQUENCE:0
SUMMARY:Zarna Garg
UID:df2ac1fc-10ee-479a-903c-4f28666dcaaa
URL:https://events.org/e/Zarna-Garg/MMFL4SU3
BEGIN:VALARM
ACTION:DISPLAY
SUMMARY:Reminder
TRIGGER:-P1D
END:VALARM
END:VEVENT
END:VCALENDAR
