BEGIN:VCALENDAR
METHOD:REQUEST
PRODID:-//events.orgNONSGML ical.net 4.0//EN
VERSION:2.0
BEGIN:VEVENT
DTEND;VALUE=DATE:20260427
DTSTAMP:20260424T080551Z
DTSTART;VALUE=DATE:20260427
LOCATION:Theater 555\, New York
ORGANIZER;CN=:mailto:events@events.org
SEQUENCE:0
SUMMARY:Blood/Love: A Vampire Pop Opera
UID:d4bbd6b9-5627-405c-9d40-0330d4e876d1
URL:https://events.org/e/BloodLove-A-Vampire-Pop-Opera/NJM5SUWK
BEGIN:VALARM
ACTION:DISPLAY
SUMMARY:Reminder
TRIGGER:-P1D
END:VALARM
END:VEVENT
END:VCALENDAR
