BEGIN:VCALENDAR
METHOD:REQUEST
PRODID:-//events.orgNONSGML ical.net 4.0//EN
VERSION:2.0
BEGIN:VEVENT
DTEND;VALUE=DATE:20260717
DTSTAMP:20260424T092607Z
DTSTART;VALUE=DATE:20260717
LOCATION:Truist Park\, Atlanta
ORGANIZER;CN=:mailto:events@events.org
SEQUENCE:0
SUMMARY:Atlanta Braves vs. Texas Rangers
UID:2aaabd80-762c-4b84-91c7-0c506d12552e
URL:https://events.org/e/Atlanta-Braves-vs-Texas-Rangers/QSGFEDKP
BEGIN:VALARM
ACTION:DISPLAY
SUMMARY:Reminder
TRIGGER:-P1D
END:VALARM
END:VEVENT
END:VCALENDAR
