BEGIN:VCALENDAR
METHOD:REQUEST
PRODID:-//events.orgNONSGML ical.net 4.0//EN
VERSION:2.0
BEGIN:VEVENT
DTEND;VALUE=DATE:20260516
DTSTAMP:20260422T091023Z
DTSTART;VALUE=DATE:20260516
LOCATION:Pacific Electric\, Los Angeles
ORGANIZER;CN=:mailto:events@events.org
SEQUENCE:0
SUMMARY:Prince Daddy & the Hyena
UID:8012e897-cb1f-408b-9d49-74549078a830
URL:https://events.org/e/Prince-Daddy-the-Hyena/N2CTYJGO
BEGIN:VALARM
ACTION:DISPLAY
SUMMARY:Reminder
TRIGGER:-P1D
END:VALARM
END:VEVENT
END:VCALENDAR
