BEGIN:VCALENDAR
METHOD:REQUEST
PRODID:-//events.orgNONSGML ical.net 4.0//EN
VERSION:2.0
BEGIN:VEVENT
DTEND;VALUE=DATE:20260428
DTSTAMP:20260424T080644Z
DTSTART;VALUE=DATE:20260428
LOCATION:Majestic Theatre-NY\, New York
ORGANIZER;CN=:mailto:events@events.org
SEQUENCE:0
SUMMARY:Beaches
UID:7daaf75c-4bea-4e19-98da-5ce15e91d7d0
URL:https://events.org/e/Beaches/B2ML4WOK
BEGIN:VALARM
ACTION:DISPLAY
SUMMARY:Reminder
TRIGGER:-P1D
END:VALARM
END:VEVENT
END:VCALENDAR
