BEGIN:VCALENDAR
METHOD:REQUEST
PRODID:-//events.orgNONSGML ical.net 4.0//EN
VERSION:2.0
BEGIN:VEVENT
DTEND;VALUE=DATE:20260423
DTSTAMP:20260422T090801Z
DTSTART;VALUE=DATE:20260423
LOCATION:Daryl Roth Theatre\, New York
ORGANIZER;CN=:mailto:events@events.org
SEQUENCE:0
SUMMARY:Mexodus the Musical
UID:1481b947-c47e-4b09-8a64-de25174f7d3f
URL:https://events.org/e/Mexodus-the-Musical/A7QVGLGP
BEGIN:VALARM
ACTION:DISPLAY
SUMMARY:Reminder
TRIGGER:-P1D
END:VALARM
END:VEVENT
END:VCALENDAR
