BEGIN:VCALENDAR
METHOD:REQUEST
PRODID:-//events.orgNONSGML ical.net 4.0//EN
VERSION:2.0
BEGIN:VEVENT
DTEND;VALUE=DATE:20260623
DTSTAMP:20260419T142426Z
DTSTART;VALUE=DATE:20260623
LOCATION:Mortgage Matchup Center\, Phoenix
ORGANIZER;CN=:mailto:events@events.org
SEQUENCE:0
SUMMARY:A$AP Rocky - Don't Be Dumb World Tour
UID:a3040269-37cb-478e-ab8a-35a3c48f299c
URL:https://events.org/e/AAP-Rocky---Dont-Be-Dumb-World-Tour/WJ7H4JRG
BEGIN:VALARM
ACTION:DISPLAY
SUMMARY:Reminder
TRIGGER:-P1D
END:VALARM
END:VEVENT
END:VCALENDAR
