BEGIN:VCALENDAR
METHOD:REQUEST
PRODID:-//events.orgNONSGML ical.net 4.0//EN
VERSION:2.0
BEGIN:VEVENT
DTEND;VALUE=DATE:20260425
DTSTAMP:20260421T095143Z
DTSTART;VALUE=DATE:20260425
LOCATION:Wintrust Arena\, Chicago
ORGANIZER;CN=:mailto:events@events.org
SEQUENCE:0
SUMMARY:We Them One's Comedy Tour
UID:3ab6b89a-a096-4f33-ab95-e5f9deff423a
URL:https://events.org/e/We-Them-Ones-Comedy-Tour/Y9AYNROC
BEGIN:VALARM
ACTION:DISPLAY
SUMMARY:Reminder
TRIGGER:-P1D
END:VALARM
END:VEVENT
END:VCALENDAR
