BEGIN:VCALENDAR
METHOD:REQUEST
PRODID:-//events.orgNONSGML ical.net 4.0//EN
VERSION:2.0
BEGIN:VEVENT
DTEND;VALUE=DATE:20260506
DTSTAMP:20260419T185038Z
DTSTART;VALUE=DATE:20260506
LOCATION:The Comedy Store (Original Room)\, Los Angeles
ORGANIZER;CN=:mailto:events@events.org
SEQUENCE:0
SUMMARY:Netflix Is A Joke Presents: Ari Matti
UID:4f9e8843-896d-4dcc-95e7-63715f33b6b4
URL:https://events.org/e/Netflix-Is-A-Joke-Presents-Ari-Matti/OP54T7BY
BEGIN:VALARM
ACTION:DISPLAY
SUMMARY:Reminder
TRIGGER:-P1D
END:VALARM
END:VEVENT
END:VCALENDAR
