BEGIN:VCALENDAR
METHOD:REQUEST
PRODID:-//events.orgNONSGML ical.net 4.0//EN
VERSION:2.0
BEGIN:VEVENT
DTEND;VALUE=DATE:20260624
DTSTAMP:20260422T091936Z
DTSTART;VALUE=DATE:20260624
LOCATION:Climate Pledge Arena\, Seattle
ORGANIZER;CN=:mailto:events@events.org
SEQUENCE:0
SUMMARY:Don Toliver: Octane Tour
UID:3395c469-0704-4081-9c51-6cfca70de30e
URL:https://events.org/e/Don-Toliver-Octane-Tour/I3V9PVJW
BEGIN:VALARM
ACTION:DISPLAY
SUMMARY:Reminder
TRIGGER:-P1D
END:VALARM
END:VEVENT
END:VCALENDAR
