BEGIN:VCALENDAR
METHOD:REQUEST
PRODID:-//events.orgNONSGML ical.net 4.0//EN
VERSION:2.0
BEGIN:VEVENT
DTEND;VALUE=DATE:20260621
DTSTAMP:20260421T095344Z
DTSTART;VALUE=DATE:20260621
LOCATION:Chase Field\, Phoenix
ORGANIZER;CN=:mailto:events@events.org
SEQUENCE:0
SUMMARY:Arizona Diamondbacks vs. Minnesota Twins
UID:5b255b7a-f53f-466e-b0f6-3ffe1af86348
URL:https://events.org/e/Arizona-Diamondbacks-vs-Minnesota-Twins/N72VSYGY
BEGIN:VALARM
ACTION:DISPLAY
SUMMARY:Reminder
TRIGGER:-P1D
END:VALARM
END:VEVENT
END:VCALENDAR
