BEGIN:VCALENDAR
METHOD:REQUEST
PRODID:-//events.orgNONSGML ical.net 4.0//EN
VERSION:2.0
BEGIN:VEVENT
DTEND;VALUE=DATE:20260512
DTSTAMP:20260422T084206Z
DTSTART;VALUE=DATE:20260512
LOCATION:Chase Field\, Phoenix
ORGANIZER;CN=:mailto:events@events.org
SEQUENCE:0
SUMMARY:Chase Field Stadium Tours
UID:686ec7ee-fca3-4650-9947-91b5e4f45011
URL:https://events.org/e/Chase-Field-Stadium-Tours/9N6Q787F
BEGIN:VALARM
ACTION:DISPLAY
SUMMARY:Reminder
TRIGGER:-P1D
END:VALARM
END:VEVENT
END:VCALENDAR
