BEGIN:VCALENDAR
METHOD:REQUEST
PRODID:-//events.orgNONSGML ical.net 4.0//EN
VERSION:2.0
BEGIN:VEVENT
DTEND;VALUE=DATE:20260422
DTSTAMP:20260419T125758Z
DTSTART;VALUE=DATE:20260422
LOCATION:Lunt-Fontanne Theatre\, New York
ORGANIZER;CN=:mailto:events@events.org
SEQUENCE:0
SUMMARY:Death Becomes Her
UID:08a96d4a-4984-4535-b403-ea952f59e3e4
URL:https://events.org/e/Death-Becomes-Her/X5W29NTQ
BEGIN:VALARM
ACTION:DISPLAY
SUMMARY:Reminder
TRIGGER:-P1D
END:VALARM
END:VEVENT
END:VCALENDAR
