BEGIN:VCALENDAR
METHOD:REQUEST
PRODID:-//events.orgNONSGML ical.net 4.0//EN
VERSION:2.0
BEGIN:VEVENT
DTEND;VALUE=DATE:20260522
DTSTAMP:20260419T170241Z
DTSTART;VALUE=DATE:20260522
LOCATION:Brighton Music Hall presented by Citizens\, Boston
ORGANIZER;CN=:mailto:events@events.org
SEQUENCE:0
SUMMARY:The Sheila Divine w/ Bird Language & Louder Joy
UID:d59ee865-91d7-4a3b-a309-a925f7e69f1d
URL:https://events.org/e/The-Sheila-Divine-w-Bird-Language-Louder-Joy/D37N
 3JM7
BEGIN:VALARM
ACTION:DISPLAY
SUMMARY:Reminder
TRIGGER:-P1D
END:VALARM
END:VEVENT
END:VCALENDAR
