BEGIN:VCALENDAR
METHOD:REQUEST
PRODID:-//events.orgNONSGML ical.net 4.0//EN
VERSION:2.0
BEGIN:VEVENT
DTEND;VALUE=DATE:20260423
DTSTAMP:20260422T090801Z
DTSTART;VALUE=DATE:20260423
LOCATION:Ethel Barrymore Theatre\, New York
ORGANIZER;CN=:mailto:events@events.org
SEQUENCE:0
SUMMARY:Joe Turner's Come and Gone
UID:4c3587de-f728-4867-9090-93ac4ae36231
URL:https://events.org/e/Joe-Turners-Come-and-Gone/JS9KXICA
BEGIN:VALARM
ACTION:DISPLAY
SUMMARY:Reminder
TRIGGER:-P1D
END:VALARM
END:VEVENT
END:VCALENDAR
