BEGIN:VCALENDAR
METHOD:REQUEST
PRODID:-//events.orgNONSGML ical.net 4.0//EN
VERSION:2.0
BEGIN:VEVENT
DTEND;VALUE=DATE:20260513
DTSTAMP:20260423T133838Z
DTSTART;VALUE=DATE:20260513
LOCATION:Buell Theatre\, Denver
ORGANIZER;CN=:mailto:events@events.org
SEQUENCE:0
SUMMARY:MJ (Touring)
UID:02de72f7-df6a-4b2b-94c1-f24c5c0f8310
URL:https://events.org/e/MJ-Touring/6SNDQ63Y
BEGIN:VALARM
ACTION:DISPLAY
SUMMARY:Reminder
TRIGGER:-P1D
END:VALARM
END:VEVENT
END:VCALENDAR
