BEGIN:VCALENDAR
METHOD:REQUEST
PRODID:-//events.orgNONSGML ical.net 4.0//EN
VERSION:2.0
BEGIN:VEVENT
DTEND;VALUE=DATE:20260703
DTSTAMP:20260422T090541Z
DTSTART;VALUE=DATE:20260703
LOCATION:Punch Line Comedy Club - San Francisco\, San Francisco
ORGANIZER;CN=:mailto:events@events.org
SEQUENCE:0
SUMMARY:Patrick Keane
UID:6f6c6564-94ad-4e01-9ff9-20f272148bff
URL:https://events.org/e/Patrick-Keane/AFY93B2X
BEGIN:VALARM
ACTION:DISPLAY
SUMMARY:Reminder
TRIGGER:-P1D
END:VALARM
END:VEVENT
END:VCALENDAR
