BEGIN:VCALENDAR
METHOD:REQUEST
PRODID:-//events.orgNONSGML ical.net 4.0//EN
VERSION:2.0
BEGIN:VEVENT
DTEND;VALUE=DATE:20260625
DTSTAMP:20260423T133420Z
DTSTART;VALUE=DATE:20260625
LOCATION:Guthrie Theater - McGuire Proscenium Stage\, Minneapolis
ORGANIZER;CN=:mailto:events@events.org
SEQUENCE:0
SUMMARY:Come from Away
UID:fd4b7788-87e8-4331-beae-84bd9127db2c
URL:https://events.org/e/Come-from-Away/5VWM34TK
BEGIN:VALARM
ACTION:DISPLAY
SUMMARY:Reminder
TRIGGER:-P1D
END:VALARM
END:VEVENT
END:VCALENDAR
