BEGIN:VCALENDAR
METHOD:REQUEST
PRODID:-//events.orgNONSGML ical.net 4.0//EN
VERSION:2.0
BEGIN:VEVENT
DTEND;VALUE=DATE:20260519
DTSTAMP:20260423T133939Z
DTSTART;VALUE=DATE:20260519
LOCATION:Music Box - San Diego\, San Diego
ORGANIZER;CN=:mailto:events@events.org
SEQUENCE:0
SUMMARY:Josiah & the Bonnevilles
UID:6ce69382-e93d-4c52-a19d-0957edeb22e2
URL:https://events.org/e/Josiah-the-Bonnevilles/TMQEVFSQ
BEGIN:VALARM
ACTION:DISPLAY
SUMMARY:Reminder
TRIGGER:-P1D
END:VALARM
END:VEVENT
END:VCALENDAR
