BEGIN:VCALENDAR
METHOD:REQUEST
PRODID:-//events.orgNONSGML ical.net 4.0//EN
VERSION:2.0
BEGIN:VEVENT
DTEND;VALUE=DATE:20260322
DTSTAMP:20260421T082207Z
DTSTART;VALUE=DATE:20260322
LOCATION:Civic Opera House\, Chicago
ORGANIZER;CN=:mailto:events@events.org
SEQUENCE:0
SUMMARY:Madama Butterfly
UID:747fe8b1-273a-4fad-8805-508c18610924
URL:https://events.org/e/Madama-Butterfly/VVQJC7HH
BEGIN:VALARM
ACTION:DISPLAY
SUMMARY:Reminder
TRIGGER:-P1D
END:VALARM
END:VEVENT
END:VCALENDAR
