BEGIN:VCALENDAR
METHOD:REQUEST
PRODID:-//events.orgNONSGML ical.net 4.0//EN
VERSION:2.0
BEGIN:VEVENT
DTEND;VALUE=DATE:20260613
DTSTAMP:20260421T104031Z
DTSTART;VALUE=DATE:20260613
LOCATION:Marquis\, Denver
ORGANIZER;CN=:mailto:events@events.org
SEQUENCE:0
SUMMARY:Nik Parr & The Selfless Lovers
UID:ade47c97-e418-471c-8c37-4954a99fac4e
URL:https://events.org/e/Nik-Parr-The-Selfless-Lovers/UCJFWVYC
BEGIN:VALARM
ACTION:DISPLAY
SUMMARY:Reminder
TRIGGER:-P1D
END:VALARM
END:VEVENT
END:VCALENDAR
