BEGIN:VCALENDAR
METHOD:REQUEST
PRODID:-//events.orgNONSGML ical.net 4.0//EN
VERSION:2.0
BEGIN:VEVENT
DTEND;VALUE=DATE:20260508
DTSTAMP:20260425T102704Z
DTSTART;VALUE=DATE:20260508
LOCATION:The Hotel Cafe (Main Stage)\, Los Angeles
ORGANIZER;CN=:mailto:events@events.org
SEQUENCE:0
SUMMARY:Netflix Is A Joke Presents: Chris Redd
UID:968a9085-eb71-453e-a9f3-c5d39fb70832
URL:https://events.org/e/Netflix-Is-A-Joke-Presents-Chris-Redd/XYF2FJX4
BEGIN:VALARM
ACTION:DISPLAY
SUMMARY:Reminder
TRIGGER:-P1D
END:VALARM
END:VEVENT
END:VCALENDAR
