BEGIN:VCALENDAR
METHOD:REQUEST
PRODID:-//events.orgNONSGML ical.net 4.0//EN
VERSION:2.0
BEGIN:VEVENT
DTEND;VALUE=DATE:20260711
DTSTAMP:20260421T104502Z
DTSTART;VALUE=DATE:20260711
LOCATION:Ball Arena\, Denver
ORGANIZER;CN=:mailto:events@events.org
SEQUENCE:0
SUMMARY:Hot Wheels Monster Trucks™ Live Glow-N-Fire
UID:489fe9c6-386a-481c-8b8e-89435ca4f5f6
URL:https://events.org/e/Hot-Wheels-Monster-TrucksT-Live-Glow-N-Fire/F8UTG
 A53
BEGIN:VALARM
ACTION:DISPLAY
SUMMARY:Reminder
TRIGGER:-P1D
END:VALARM
END:VEVENT
END:VCALENDAR
