BEGIN:VCALENDAR
METHOD:REQUEST
PRODID:-//events.orgNONSGML ical.net 4.0//EN
VERSION:2.0
BEGIN:VEVENT
DTEND;VALUE=DATE:20260923
DTSTAMP:20260422T090302Z
DTSTART;VALUE=DATE:20260923
LOCATION:Citizens Bank Park\, Philadelphia
ORGANIZER;CN=:mailto:events@events.org
SEQUENCE:0
SUMMARY:Philadelphia Phillies vs. Milwaukee Brewers
UID:a8190c10-05dc-482a-8d76-5e0bd980e260
URL:https://events.org/e/Philadelphia-Phillies-vs-Milwaukee-Brewers/TH7XRB
 U2
BEGIN:VALARM
ACTION:DISPLAY
SUMMARY:Reminder
TRIGGER:-P1D
END:VALARM
END:VEVENT
END:VCALENDAR
