BEGIN:VCALENDAR
METHOD:REQUEST
PRODID:-//events.orgNONSGML ical.net 4.0//EN
VERSION:2.0
BEGIN:VEVENT
DTEND;VALUE=DATE:20260703
DTSTAMP:20260421T082224Z
DTSTART;VALUE=DATE:20260703
LOCATION:The Fillmore\, San Francisco
ORGANIZER;CN=:mailto:events@events.org
SEQUENCE:0
SUMMARY:JINJER Duel North America 2026
UID:61de14db-906a-4314-bdf5-8f5a1558db21
URL:https://events.org/e/JINJER-Duel-North-America-2026/8C68C5R7
BEGIN:VALARM
ACTION:DISPLAY
SUMMARY:Reminder
TRIGGER:-P1D
END:VALARM
END:VEVENT
END:VCALENDAR
