BEGIN:VCALENDAR
METHOD:REQUEST
PRODID:-//events.orgNONSGML ical.net 4.0//EN
VERSION:2.0
BEGIN:VEVENT
DTEND;VALUE=DATE:20260423
DTSTAMP:20260421T104502Z
DTSTART;VALUE=DATE:20260423
LOCATION:Nectar Lounge\, Seattle
ORGANIZER;CN=:mailto:events@events.org
SEQUENCE:0
SUMMARY:Disco\, Always: A Harry Styles Dance Night (21+ Event)
UID:fa079608-45c3-4345-b64f-3ec346a095b4
URL:https://events.org/e/Disco-Always-A-Harry-Styles-Dance-Night-21-Event/
 DHP8HGWH
BEGIN:VALARM
ACTION:DISPLAY
SUMMARY:Reminder
TRIGGER:-P1D
END:VALARM
END:VEVENT
END:VCALENDAR
