BEGIN:VCALENDAR
METHOD:REQUEST
PRODID:-//events.orgNONSGML ical.net 4.0//EN
VERSION:2.0
BEGIN:VEVENT
DTEND;VALUE=DATE:20260627
DTSTAMP:20260423T133328Z
DTSTART;VALUE=DATE:20260627
LOCATION:Just the Funny\, Miami
ORGANIZER;CN=:mailto:events@events.org
SEQUENCE:0
SUMMARY:Cheap Trills Musical Improv
UID:79b162b7-0c3a-4fab-a2a8-bf7974e28927
URL:https://events.org/e/Cheap-Trills-Musical-Improv/P88CST5I
BEGIN:VALARM
ACTION:DISPLAY
SUMMARY:Reminder
TRIGGER:-P1D
END:VALARM
END:VEVENT
END:VCALENDAR
