BEGIN:VCALENDAR
METHOD:REQUEST
PRODID:-//events.orgNONSGML ical.net 4.0//EN
VERSION:2.0
BEGIN:VEVENT
DTEND;VALUE=DATE:20260611
DTSTAMP:20260419T143117Z
DTSTART;VALUE=DATE:20260611
LOCATION:The Masonic\, San Francisco
ORGANIZER;CN=:mailto:events@events.org
SEQUENCE:0
SUMMARY:Belle & Sebastian 2 DAY TICKET
UID:6f5ef568-9e0c-455e-b2a7-42dd4f4ef2b4
URL:https://events.org/e/Belle-Sebastian-2-DAY-TICKET/YEQG9NDD
BEGIN:VALARM
ACTION:DISPLAY
SUMMARY:Reminder
TRIGGER:-P1D
END:VALARM
END:VEVENT
END:VCALENDAR
